BEGIN:VCALENDAR
VERSION:2.0
PRODID:-//Gockel Gilde E.V - ECPv6.15.20//NONSGML v1.0//EN
CALSCALE:GREGORIAN
METHOD:PUBLISH
X-ORIGINAL-URL:https://www.gockel-gil.de
X-WR-CALDESC:Veranstaltungen für Gockel Gilde E.V
REFRESH-INTERVAL;VALUE=DURATION:PT1H
X-Robots-Tag:noindex
X-PUBLISHED-TTL:PT1H
BEGIN:VTIMEZONE
TZID:Europe/Berlin
BEGIN:DAYLIGHT
TZOFFSETFROM:+0100
TZOFFSETTO:+0200
TZNAME:CEST
DTSTART:20220327T010000
END:DAYLIGHT
BEGIN:STANDARD
TZOFFSETFROM:+0200
TZOFFSETTO:+0100
TZNAME:CET
DTSTART:20221030T010000
END:STANDARD
BEGIN:DAYLIGHT
TZOFFSETFROM:+0100
TZOFFSETTO:+0200
TZNAME:CEST
DTSTART:20230326T010000
END:DAYLIGHT
BEGIN:STANDARD
TZOFFSETFROM:+0200
TZOFFSETTO:+0100
TZNAME:CET
DTSTART:20231029T010000
END:STANDARD
BEGIN:DAYLIGHT
TZOFFSETFROM:+0100
TZOFFSETTO:+0200
TZNAME:CEST
DTSTART:20240331T010000
END:DAYLIGHT
BEGIN:STANDARD
TZOFFSETFROM:+0200
TZOFFSETTO:+0100
TZNAME:CET
DTSTART:20241027T010000
END:STANDARD
END:VTIMEZONE
BEGIN:VEVENT
DTSTART;TZID=Europe/Berlin:20230210T120000
DTEND;TZID=Europe/Berlin:20230210T180000
DTSTAMP:20260425T232534
CREATED:20230124T115113Z
LAST-MODIFIED:20230124T115200Z
UID:131-1676030400-1676052000@www.gockel-gil.de
SUMMARY:Zollaktion
DESCRIPTION:Am 10. Februar von 12–18 Uhr\nfindet unsere historische Zollaktion im Zollhaus statt.\nUnsere Zöllner stehen für den guten Zweck am Grenzweg bereit.\nDie Spenden gehen an die Feldner Mühle\,\nFörderverein für Kinder\, Jugendliche und junge Erwachsene\nmit Behinderung e.V. in Villingen.
URL:https://www.gockel-gil.de/event/zollaktion/
END:VEVENT
END:VCALENDAR