BEGIN:VCALENDAR
VERSION:2.0
PRODID:-//Gockel Gilde E.V - ECPv6.15.20//NONSGML v1.0//EN
CALSCALE:GREGORIAN
METHOD:PUBLISH
X-ORIGINAL-URL:https://www.gockel-gil.de
X-WR-CALDESC:Veranstaltungen für Gockel Gilde E.V
REFRESH-INTERVAL;VALUE=DURATION:PT1H
X-Robots-Tag:noindex
X-PUBLISHED-TTL:PT1H
BEGIN:VTIMEZONE
TZID:Europe/Berlin
BEGIN:DAYLIGHT
TZOFFSETFROM:+0100
TZOFFSETTO:+0200
TZNAME:CEST
DTSTART:20250330T010000
END:DAYLIGHT
BEGIN:STANDARD
TZOFFSETFROM:+0200
TZOFFSETTO:+0100
TZNAME:CET
DTSTART:20251026T010000
END:STANDARD
BEGIN:DAYLIGHT
TZOFFSETFROM:+0100
TZOFFSETTO:+0200
TZNAME:CEST
DTSTART:20260329T010000
END:DAYLIGHT
BEGIN:STANDARD
TZOFFSETFROM:+0200
TZOFFSETTO:+0100
TZNAME:CET
DTSTART:20261025T010000
END:STANDARD
BEGIN:DAYLIGHT
TZOFFSETFROM:+0100
TZOFFSETTO:+0200
TZNAME:CEST
DTSTART:20270328T010000
END:DAYLIGHT
BEGIN:STANDARD
TZOFFSETFROM:+0200
TZOFFSETTO:+0100
TZNAME:CET
DTSTART:20271031T010000
END:STANDARD
END:VTIMEZONE
BEGIN:VEVENT
DTSTART;TZID=Europe/Berlin:20260106T073700
DTEND;TZID=Europe/Berlin:20260106T090000
DTSTAMP:20260420T135946
CREATED:20240115T181808Z
LAST-MODIFIED:20251113T141952Z
UID:325-1767685020-1767690000@www.gockel-gil.de
SUMMARY:Fasnetauftakt
DESCRIPTION:Beginn bei Tagesanbruch ab 7:37 Uhr am Cafe Hildebrand
URL:https://www.gockel-gil.de/event/fasnetauftakt/
END:VEVENT
END:VCALENDAR