BEGIN:VCALENDAR
VERSION:2.0
PRODID:-//Gockel Gilde E.V - ECPv6.15.20//NONSGML v1.0//EN
CALSCALE:GREGORIAN
METHOD:PUBLISH
X-WR-CALNAME:Gockel Gilde E.V
X-ORIGINAL-URL:https://www.gockel-gil.de
X-WR-CALDESC:Veranstaltungen für Gockel Gilde E.V
REFRESH-INTERVAL;VALUE=DURATION:PT1H
X-Robots-Tag:noindex
X-PUBLISHED-TTL:PT1H
BEGIN:VTIMEZONE
TZID:Europe/Berlin
BEGIN:DAYLIGHT
TZOFFSETFROM:+0100
TZOFFSETTO:+0200
TZNAME:CEST
DTSTART:20250330T010000
END:DAYLIGHT
BEGIN:STANDARD
TZOFFSETFROM:+0200
TZOFFSETTO:+0100
TZNAME:CET
DTSTART:20251026T010000
END:STANDARD
BEGIN:DAYLIGHT
TZOFFSETFROM:+0100
TZOFFSETTO:+0200
TZNAME:CEST
DTSTART:20260329T010000
END:DAYLIGHT
BEGIN:STANDARD
TZOFFSETFROM:+0200
TZOFFSETTO:+0100
TZNAME:CET
DTSTART:20261025T010000
END:STANDARD
BEGIN:DAYLIGHT
TZOFFSETFROM:+0100
TZOFFSETTO:+0200
TZNAME:CEST
DTSTART:20270328T010000
END:DAYLIGHT
BEGIN:STANDARD
TZOFFSETFROM:+0200
TZOFFSETTO:+0100
TZNAME:CET
DTSTART:20271031T010000
END:STANDARD
END:VTIMEZONE
BEGIN:VEVENT
DTSTART;TZID=Europe/Berlin:20260605T190000
DTEND;TZID=Europe/Berlin:20261106T233000
DTSTAMP:20260420T121028
CREATED:20250418T103536Z
LAST-MODIFIED:20260329T084852Z
UID:449-1780686000-1794007800@www.gockel-gil.de
SUMMARY:Hock in de Halle
DESCRIPTION:Jeden ersten Freitag im Monat:\n> 05.06\n> 03.07\n> 07.08\n> 04.09\n< 02.10\n< 06.11.
URL:https://www.gockel-gil.de/event/hock-in-de-halle/
LOCATION:Gockelhalle Zollhaus
END:VEVENT
END:VCALENDAR