BEGIN:VCALENDAR
VERSION:2.0
PRODID:-//Gockel Gilde E.V - ECPv6.15.20//NONSGML v1.0//EN
CALSCALE:GREGORIAN
METHOD:PUBLISH
X-WR-CALNAME:Gockel Gilde E.V
X-ORIGINAL-URL:https://www.gockel-gil.de
X-WR-CALDESC:Veranstaltungen für Gockel Gilde E.V
REFRESH-INTERVAL;VALUE=DURATION:PT1H
X-Robots-Tag:noindex
X-PUBLISHED-TTL:PT1H
BEGIN:VTIMEZONE
TZID:Europe/Berlin
BEGIN:DAYLIGHT
TZOFFSETFROM:+0100
TZOFFSETTO:+0200
TZNAME:CEST
DTSTART:20220327T010000
END:DAYLIGHT
BEGIN:STANDARD
TZOFFSETFROM:+0200
TZOFFSETTO:+0100
TZNAME:CET
DTSTART:20221030T010000
END:STANDARD
BEGIN:DAYLIGHT
TZOFFSETFROM:+0100
TZOFFSETTO:+0200
TZNAME:CEST
DTSTART:20230326T010000
END:DAYLIGHT
BEGIN:STANDARD
TZOFFSETFROM:+0200
TZOFFSETTO:+0100
TZNAME:CET
DTSTART:20231029T010000
END:STANDARD
BEGIN:DAYLIGHT
TZOFFSETFROM:+0100
TZOFFSETTO:+0200
TZNAME:CEST
DTSTART:20240331T010000
END:DAYLIGHT
BEGIN:STANDARD
TZOFFSETFROM:+0200
TZOFFSETTO:+0100
TZNAME:CET
DTSTART:20241027T010000
END:STANDARD
END:VTIMEZONE
BEGIN:VEVENT
DTSTART;TZID=Europe/Berlin:20230915T190000
DTEND;TZID=Europe/Berlin:20230915T220000
DTSTAMP:20260424T064708
CREATED:20230511T081732Z
LAST-MODIFIED:20230511T081732Z
UID:231-1694804400-1694815200@www.gockel-gil.de
SUMMARY:Gockelballsitzung
DESCRIPTION:
URL:https://www.gockel-gil.de/event/gockelballsitzung/
LOCATION:Gockelhalle Zollhaus
END:VEVENT
END:VCALENDAR