BEGIN:VCALENDAR
VERSION:2.0
PRODID:-//Gockel Gilde E.V - ECPv6.15.20//NONSGML v1.0//EN
CALSCALE:GREGORIAN
METHOD:PUBLISH
X-ORIGINAL-URL:https://www.gockel-gil.de
X-WR-CALDESC:Veranstaltungen für Gockel Gilde E.V
REFRESH-INTERVAL;VALUE=DURATION:PT1H
X-Robots-Tag:noindex
X-PUBLISHED-TTL:PT1H
BEGIN:VTIMEZONE
TZID:Europe/Berlin
BEGIN:DAYLIGHT
TZOFFSETFROM:+0100
TZOFFSETTO:+0200
TZNAME:CEST
DTSTART:20250330T010000
END:DAYLIGHT
BEGIN:STANDARD
TZOFFSETFROM:+0200
TZOFFSETTO:+0100
TZNAME:CET
DTSTART:20251026T010000
END:STANDARD
BEGIN:DAYLIGHT
TZOFFSETFROM:+0100
TZOFFSETTO:+0200
TZNAME:CEST
DTSTART:20260329T010000
END:DAYLIGHT
BEGIN:STANDARD
TZOFFSETFROM:+0200
TZOFFSETTO:+0100
TZNAME:CET
DTSTART:20261025T010000
END:STANDARD
BEGIN:DAYLIGHT
TZOFFSETFROM:+0100
TZOFFSETTO:+0200
TZNAME:CEST
DTSTART:20270328T010000
END:DAYLIGHT
BEGIN:STANDARD
TZOFFSETFROM:+0200
TZOFFSETTO:+0100
TZNAME:CET
DTSTART:20271031T010000
END:STANDARD
END:VTIMEZONE
BEGIN:VEVENT
DTSTART;TZID=Europe/Berlin:20260206T120000
DTEND;TZID=Europe/Berlin:20260206T180000
DTSTAMP:20260420T103436
CREATED:20240115T182823Z
LAST-MODIFIED:20251113T141851Z
UID:335-1770379200-1770400800@www.gockel-gil.de
SUMMARY:Zollaktion
DESCRIPTION:Danach Zöllnerfest in Zappes Bar.
URL:https://www.gockel-gil.de/event/zollaktion-2/
END:VEVENT
BEGIN:VEVENT
DTSTART;TZID=Europe/Berlin:20260207T093000
DTEND;TZID=Europe/Berlin:20260207T150000
DTSTAMP:20260420T103436
CREATED:20240115T182951Z
LAST-MODIFIED:20251209T140144Z
UID:337-1770456600-1770476400@www.gockel-gil.de
SUMMARY:Wagenbau
DESCRIPTION:Ab 09:30 an der Gockelhalle!
URL:https://www.gockel-gil.de/event/wagenbau/
LOCATION:Gockelhalle Zollhaus
END:VEVENT
BEGIN:VEVENT
DTSTART;TZID=Europe/Berlin:20260213T150000
DTEND;TZID=Europe/Berlin:20260213T170000
DTSTAMP:20260420T103436
CREATED:20240115T183150Z
LAST-MODIFIED:20251113T141734Z
UID:339-1770994800-1771002000@www.gockel-gil.de
SUMMARY:Kinderfasnet
DESCRIPTION:Einlass 14:30 und Beginn um 15:00 Uhr im Wildpark. Preis: 2€
URL:https://www.gockel-gil.de/event/kinderfasnet/
LOCATION:Wildpark
END:VEVENT
BEGIN:VEVENT
DTSTART;TZID=Europe/Berlin:20260214T093000
DTEND;TZID=Europe/Berlin:20260214T150000
DTSTAMP:20260420T103436
CREATED:20240115T183322Z
LAST-MODIFIED:20251209T140247Z
UID:341-1771061400-1771081200@www.gockel-gil.de
SUMMARY:Wagenbau die Zweite
DESCRIPTION:Ab 9:30 an der Gockelhalle!
URL:https://www.gockel-gil.de/event/wagenbau-die-zweite/
LOCATION:Gockelhalle Zollhaus
END:VEVENT
BEGIN:VEVENT
DTSTART;TZID=Europe/Berlin:20260215T140000
DTEND;TZID=Europe/Berlin:20260215T170000
DTSTAMP:20260420T103436
CREATED:20240115T183610Z
LAST-MODIFIED:20251113T141622Z
UID:343-1771164000-1771174800@www.gockel-gil.de
SUMMARY:Umzug Schwenningen
DESCRIPTION:Teilnahme aller Hästräger am Umzug in Schwenningen \nUmzugsbeginn 14:00 Uhr \nTreffpunkt 13:30 Untere Sängerstrasse \nNach dem Umzug Treffen an der Bürkturnhalle
URL:https://www.gockel-gil.de/event/umzug-schwenningen/
END:VEVENT
BEGIN:VEVENT
DTSTART;TZID=Europe/Berlin:20260216T030000
DTEND;TZID=Europe/Berlin:20260217T090000
DTSTAMP:20260420T103436
CREATED:20251209T141542Z
LAST-MODIFIED:20251209T140935Z
UID:345-1771210800-1771318800@www.gockel-gil.de
SUMMARY:Die "Wecker" sind los
DESCRIPTION:Ab 3:00 Uhr sind die Wecker im Zollhaus unterwegs..
URL:https://www.gockel-gil.de/event/die-wecker-sind-los/
END:VEVENT
BEGIN:VEVENT
DTSTART;TZID=Europe/Berlin:20260217T123000
DTEND;TZID=Europe/Berlin:20260217T230000
DTSTAMP:20260420T103436
CREATED:20251209T141332Z
LAST-MODIFIED:20251209T141332Z
UID:479-1771331400-1771369200@www.gockel-gil.de
SUMMARY:Umzug in Villingen
DESCRIPTION:Teilnahme aller Häßträger am Umzug in Villingen \nUmzugsbeginn: 13:00 Uhr \nAnfahrt: Privat oder mit Ringzug \nNachdem Umzug treffen wir uns im Jägerhaus ab 18:00 Uhr. \nUm 20:00 Uhr beginnt unsere Fasnetsbeerdigung
URL:https://www.gockel-gil.de/event/umzug-in-villingen/
END:VEVENT
BEGIN:VEVENT
DTSTART;TZID=Europe/Berlin:20260221T093000
DTEND;TZID=Europe/Berlin:20260221T160000
DTSTAMP:20260420T103436
CREATED:20251209T141506Z
LAST-MODIFIED:20251209T141506Z
UID:481-1771666200-1771689600@www.gockel-gil.de
SUMMARY:Fasnetsabbau
DESCRIPTION:Treffpunkt: 09:30 Uhr
URL:https://www.gockel-gil.de/event/fasnetsabbau/
LOCATION:Gockelhalle Zollhaus
END:VEVENT
END:VCALENDAR