BEGIN:VCALENDAR
VERSION:2.0
PRODID:-//Gockel Gilde E.V - ECPv6.15.20//NONSGML v1.0//EN
CALSCALE:GREGORIAN
METHOD:PUBLISH
X-ORIGINAL-URL:https://www.gockel-gil.de
X-WR-CALDESC:Veranstaltungen für Gockel Gilde E.V
REFRESH-INTERVAL;VALUE=DURATION:PT1H
X-Robots-Tag:noindex
X-PUBLISHED-TTL:PT1H
BEGIN:VTIMEZONE
TZID:Europe/Berlin
BEGIN:DAYLIGHT
TZOFFSETFROM:+0100
TZOFFSETTO:+0200
TZNAME:CEST
DTSTART:20250330T010000
END:DAYLIGHT
BEGIN:STANDARD
TZOFFSETFROM:+0200
TZOFFSETTO:+0100
TZNAME:CET
DTSTART:20251026T010000
END:STANDARD
BEGIN:DAYLIGHT
TZOFFSETFROM:+0100
TZOFFSETTO:+0200
TZNAME:CEST
DTSTART:20260329T010000
END:DAYLIGHT
BEGIN:STANDARD
TZOFFSETFROM:+0200
TZOFFSETTO:+0100
TZNAME:CET
DTSTART:20261025T010000
END:STANDARD
BEGIN:DAYLIGHT
TZOFFSETFROM:+0100
TZOFFSETTO:+0200
TZNAME:CEST
DTSTART:20270328T010000
END:DAYLIGHT
BEGIN:STANDARD
TZOFFSETFROM:+0200
TZOFFSETTO:+0100
TZNAME:CET
DTSTART:20271031T010000
END:STANDARD
END:VTIMEZONE
BEGIN:VEVENT
DTSTART;TZID=Europe/Berlin:20260509T100000
DTEND;TZID=Europe/Berlin:20260509T170000
DTSTAMP:20260420T084953
CREATED:20260329T090332Z
LAST-MODIFIED:20260329T090332Z
UID:504-1778320800-1778346000@www.gockel-gil.de
SUMMARY:Aufbau Vatertagfest
DESCRIPTION:
URL:https://www.gockel-gil.de/event/aufbau-vatertagfest-2/
LOCATION:Gockelhalle Zollhaus
END:VEVENT
BEGIN:VEVENT
DTSTART;TZID=Europe/Berlin:20260514T100000
DTEND;TZID=Europe/Berlin:20260514T190000
DTSTAMP:20260420T084953
CREATED:20250418T101520Z
LAST-MODIFIED:20260329T084029Z
UID:438-1778752800-1778785200@www.gockel-gil.de
SUMMARY:Vatertagfest
DESCRIPTION:
URL:https://www.gockel-gil.de/event/438/
LOCATION:Gockelhalle Zollhaus
END:VEVENT
BEGIN:VEVENT
DTSTART;TZID=Europe/Berlin:20260515T100000
DTEND;TZID=Europe/Berlin:20260515T170000
DTSTAMP:20260420T084953
CREATED:20240416T090944Z
LAST-MODIFIED:20260329T090215Z
UID:400-1778839200-1778864400@www.gockel-gil.de
SUMMARY:Abbau Vatertagfest
DESCRIPTION:
URL:https://www.gockel-gil.de/event/aufbau-vatertagfest/
LOCATION:Gockelhalle Zollhaus
END:VEVENT
END:VCALENDAR